BEGIN:VCALENDAR
VERSION:2.0
PRODID:-//wp-events-plugin.com//7.2.3.1//EN
TZID:Europe/Berlin
X-WR-TIMEZONE:Europe/Berlin
BEGIN:VEVENT
UID:96@unternehmerinnenforum-niederrhein.de
DTSTART;TZID=Europe/Berlin;VALUE=DATE:20260529
DTEND;TZID=Europe/Berlin;VALUE=DATE:20260530
DTSTAMP:20251216T124731Z
URL:https://www.unternehmerinnenforum-niederrhein.de/events/frauen-fuehren
 -woanders-hin/
SUMMARY:Frauen führen (wo)anders (hin)!
DESCRIPTION:Kommt mit zum Unternehmensbesuch in die heilpädagogisch-inklus
 ionstherapeutische Praxis Apfelbaum.\n\n[two_third]\n [/two_third]\n\n[one
 _third_last] [/one_third_last]\n\n&nbsp\;\n\nUnsere Mitgliedsfrau\, Petra
  Schumacher\, lädt ein\, den Standort mit der Verwaltungszentrale in Geld
 ern-Walbeck\, An der Seidenweberei 11\, kennenzulernen.\n\nNeben diesem St
 andort gibt es auch an der Hoffmannallee 53 in Kleve eine geräumige Praxi
 s.\n\nPetra Schumacher erzählt uns ihre Lebens- und Berufsgeschichte\,  
 sie weiß um die "Barrieren in den Köpfen" und zeigt\, warum jedes Kind e
 inmalig ist und wie sie es ermutigt\, über sich hinaus zu wachsen. Warum?
  Weil Kinder motiviert werden wollen\, ihren eigenen Weg zu gehen\, denn n
 ur so kann jedes Kind unsere Welt ein Stückchen reicher machen.\n\nHört\
 , warum und mit welchen Zielen sie ihre Praxis gegründet hat\, wo für si
 e die Steine im Weg lagen und (ganz) dicke Bretter gebohrt werden mussten.
 \n\nErfahrt\, wie sie das Unternehmen entwickelt und mutig Kurs auf Wachst
 um gesetzt hat. Aus der "One-Woman-Show" entwickelte sie ein Unternehmen m
 it mehr als 60 Mitarbeitenden an beiden Standorten.\n\nMit ihrem Team entw
 ickelte sie das therapeutische Inklusionskonzept KIM\, das Elternhaus\, Sc
 hule und Praxis miteinander verbindet.\n\n[one_half] [/one_half]\n\n[one_h
 alf_last][/one_half_last]\n\n&nbsp\;\n\nPetra wusste ihren Mann an ihrer S
 eite\, der sie auf ihrem Weg beraten und bestärkt hat\, gemeinsam all ihr
 e Ideen mit getragen hat und auch tatkräftig mit anpackte\, wenn es galt\
 , wieder einmal umzubauen\, um noch größer zu werden. Inzwischen ist die
  Praxis zur bundesweit größten personengeführten heilpädagogischen Pra
 xis gewachsen.\n\nJetzt\, 30 Jahre später\, ist sie einen Schritt zurück
 getreten und hat die Praxis im Herbst 2025 in jüngere Hände gelegt:\n\n[
 one_third][/one_third]\n\n[two_third_last]\nSohn Dario Koch übernimmt. Ve
 ränderungen stehen ins Haus. Der IT-Experte hat das Unternehmen und die h
 auseigenen Arbeitsprozesse bereits digital auf die Zukunft ausgerichtet.\n
 Auch in einer heilpädagogischen Praxis können so aufwändige Verwaltungs
 prozesse sinnvoll verkürzt werden.\n[/two_third_last]\n\nAPFELBAUM lässt
  sich also in die Karten schauen und verspricht einen interessanten Untern
 ehmensbesuch\, der einlädt\, Erfahrung und gute Ideen zu teilen.\n\n"Don 
 Peppone" aus Aldekerk verwöhnt uns mit seiner "Gino´s Gourmet Pinsa Roma
 na"\, bei der leichtfüssig gute Kontakte garantiert sind.\n\nAblauf: Anko
 mmen kurz vor 16.00 Uhr\n\n16.00 Uhr - Impuls zur Unternehmensgeschichte\n
 \n17.00 Uhr - Praxisbesichtigung\n\n18.00 Uhr - Zukunftsgarant: Digitalisi
 erung\n\nab 18.30 Uhr "come together" &amp\; Austausch\n\n&nbsp\;
ATTACH;FMTTYPE=image/jpeg:https://www.unternehmerinnenforum-niederrhein.de
 /wp-content/uploads/2025/11/apfelbaum-logo.jpg
LOCATION:Praxis Apfelbaum\, An der Seidenweberei 11\, Geldern-Walbeck\, 476
 08\, Deutschland
X-APPLE-STRUCTURED-LOCATION;VALUE=URI;X-ADDRESS=An der Seidenweberei 11\, G
 eldern-Walbeck\, 47608\, Deutschland;X-APPLE-RADIUS=100;X-TITLE=Praxis Apf
 elbaum:geo:0,0
END:VEVENT
BEGIN:VTIMEZONE
TZID:Europe/Berlin
X-LIC-LOCATION:Europe/Berlin
BEGIN:DAYLIGHT
DTSTART:20260329T030000
TZOFFSETFROM:+0100
TZOFFSETTO:+0200
TZNAME:CEST
END:DAYLIGHT
END:VTIMEZONE
END:VCALENDAR