BEGIN:VCALENDAR
VERSION:2.0
PRODID:-//wp-events-plugin.com//7.2.3.1//EN
TZID:Europe/Berlin
X-WR-TIMEZONE:Europe/Berlin
BEGIN:VEVENT
UID:24@unternehmerinnenforum-niederrhein.de
DTSTART;TZID=Europe/Berlin:20190221T190000
DTEND;TZID=Europe/Berlin:20190221T210000
DTSTAMP:20190126T124038Z
URL:https://www.unternehmerinnenforum-niederrhein.de/events/frauenfilmnach
 t-2019/
SUMMARY:Frauenfilmnacht 2019 - AUSGEBUCHT
DESCRIPTION:"Blind Date!" -  Der Kartenvorverkauf startet in Kürze\n\nAm 
 21.2.2019 ist es wieder so weit....wir laden ins Tichelpark Kino Kleve ein
 . Unser Charity-Event für die ganze Region geht in die nächste Runde. Un
 d selbstverständlich spenden wir auch wieder für weitere Mikrokredite f
 ür die Frauengruppe am Niger.\n\nWir haben wieder 3 wundervolle Filme fü
 r Sie im Gepäck. Lassen Sie sich inspirieren und wählen Sie am Abend spo
 ntan Ihren Favoriten aus den Bestsellern aus und genießen Sie in netter R
 unde einen schönen Abend. Wir treffen uns später alle in der CASA CLEVE.
  Hier werden Sie nach 21.00 Uhr mit einem Begrüßungsgetränk in Empfang 
 genommen und werden auf interessante Menschen treffen\, die sich gerne mit
  Ihnen austauschen. Und wer vor oder nach dem Film noch Apetitt verspürt\
 , findet in der CASA CLEVE ein kleines\, feines Angebot von Speisen zur Wa
 hl. Ganz nach Geschmack und Portemmonaie.\n\nErleben Sie die Atmopshäre u
 nd genießen Sie den Abend mit uns.\n\nDer Erlös des Abends ist zum einen
  für die Vergabe von Mikrokrediten am Niger gedacht\, zum anderen fließt
  es einem regionalen Hilfsprojekt zugunsten an Krebs erkrankter Frauen zu.
 \n\nEintrittskarten sind ausschließlich an der Kinokasse oder aber im Onl
 ineportal des Tichelpark-Kinos erhältlich.\n\nWir freuen uns über ein re
 ges Sponsoring\, dass bereits im Vorfeld dafür sorgt\, dass wir wieder ei
 nen schönen Betrag erwirtschaften können\, der unseren Charityprojekten 
 zugute kommen wird. Ein herzliches Dankeschön!\n\n \n\nWeitere Sponsoren
 :  und \n\n&nbsp\;
ATTACH;FMTTYPE=image/jpeg:https://www.unternehmerinnenforum-niederrhein.de
 /wp-content/uploads/2018/01/frauenfilmnacht-zuschauerinnen.jpg
END:VEVENT
BEGIN:VTIMEZONE
TZID:Europe/Berlin
X-LIC-LOCATION:Europe/Berlin
BEGIN:STANDARD
DTSTART:20181028T020000
TZOFFSETFROM:+0200
TZOFFSETTO:+0100
TZNAME:CET
END:STANDARD
END:VTIMEZONE
END:VCALENDAR